BEGIN:VCALENDAR
VERSION:2.0
PRODID:-//Eduvation - ECPv6.0.5//NONSGML v1.0//EN
CALSCALE:GREGORIAN
METHOD:PUBLISH
X-ORIGINAL-URL:http://eduvation.ca
X-WR-CALDESC:Events for Eduvation
REFRESH-INTERVAL;VALUE=DURATION:PT1H
X-Robots-Tag:noindex
X-PUBLISHED-TTL:PT1H
BEGIN:VTIMEZONE
TZID:America/Toronto
BEGIN:DAYLIGHT
TZOFFSETFROM:-0500
TZOFFSETTO:-0400
TZNAME:EDT
DTSTART:20160313T070000
END:DAYLIGHT
BEGIN:STANDARD
TZOFFSETFROM:-0400
TZOFFSETTO:-0500
TZNAME:EST
DTSTART:20161106T060000
END:STANDARD
END:VTIMEZONE
BEGIN:VEVENT
DTSTART;VALUE=DATE:20161019
DTEND;VALUE=DATE:20161020
DTSTAMP:20260425T141726
CREATED:20160908T182545Z
LAST-MODIFIED:20160908T182545Z
UID:3507-1476835200-1476921599@eduvation.ca
SUMMARY:AVAILABLE in Calgary
DESCRIPTION:Ken Steele will be in Calgary and is available to present or facilitate there without travel costs.
URL:http://eduvation.ca/event/available-in-calgary/
CATEGORIES:Alberta,AVAILABLE
END:VEVENT
END:VCALENDAR